BEGIN:VCALENDAR
VERSION:2.0
PRODID:-//Town of Marblehead - ECPv6.15.20//NONSGML v1.0//EN
CALSCALE:GREGORIAN
METHOD:PUBLISH
X-WR-CALNAME:Town of Marblehead
X-ORIGINAL-URL:https://marbleheadma.gov
X-WR-CALDESC:Events for Town of Marblehead
REFRESH-INTERVAL;VALUE=DURATION:PT1H
X-Robots-Tag:noindex
X-PUBLISHED-TTL:PT1H
BEGIN:VTIMEZONE
TZID:America/New_York
BEGIN:DAYLIGHT
TZOFFSETFROM:-0500
TZOFFSETTO:-0400
TZNAME:EDT
DTSTART:20240310T070000
END:DAYLIGHT
BEGIN:STANDARD
TZOFFSETFROM:-0400
TZOFFSETTO:-0500
TZNAME:EST
DTSTART:20241103T060000
END:STANDARD
BEGIN:DAYLIGHT
TZOFFSETFROM:-0500
TZOFFSETTO:-0400
TZNAME:EDT
DTSTART:20250309T070000
END:DAYLIGHT
BEGIN:STANDARD
TZOFFSETFROM:-0400
TZOFFSETTO:-0500
TZNAME:EST
DTSTART:20251102T060000
END:STANDARD
BEGIN:DAYLIGHT
TZOFFSETFROM:-0500
TZOFFSETTO:-0400
TZNAME:EDT
DTSTART:20260308T070000
END:DAYLIGHT
BEGIN:STANDARD
TZOFFSETFROM:-0400
TZOFFSETTO:-0500
TZNAME:EST
DTSTART:20261101T060000
END:STANDARD
BEGIN:DAYLIGHT
TZOFFSETFROM:-0500
TZOFFSETTO:-0400
TZNAME:EDT
DTSTART:20270314T070000
END:DAYLIGHT
BEGIN:STANDARD
TZOFFSETFROM:-0400
TZOFFSETTO:-0500
TZNAME:EST
DTSTART:20271107T060000
END:STANDARD
END:VTIMEZONE
BEGIN:VEVENT
DTSTART;TZID=America/New_York:20260304T183000
DTEND;TZID=America/New_York:20260304T183000
DTSTAMP:20260422T114701
CREATED:20260227T135947Z
LAST-MODIFIED:20260227T140357Z
UID:10000380-1772649000-1772649000@marbleheadma.gov
SUMMARY:Water and Sewer Commission Meeting
DESCRIPTION:Select Board’s Meeting Room\, Abbot Hall \n188 Washington Street \nMarblehead\, MA 01945 \nWater and Sewer Commission Agenda
URL:https://marbleheadma.gov/event/water-and-sewer-commission-meeting-6/
LOCATION:Select Board’s Meeting Room\, Abbot Hall\, 188 Washington Street\, Marblehead\, 01945\, United States
END:VEVENT
BEGIN:VEVENT
DTSTART;TZID=America/New_York:20260303T190000
DTEND;TZID=America/New_York:20260303T190000
DTSTAMP:20260422T114701
CREATED:20260227T140922Z
LAST-MODIFIED:20260303T143052Z
UID:10000381-1772564400-1772564400@marbleheadma.gov
SUMMARY:Water and Sewer Commission Meeting AMENDED
DESCRIPTION:Commission Office \n100 Tower Way\, Building #11 \nMarblehead\, MA 01945 \nWater and Sewer Commission Agenda AMENDED
URL:https://marbleheadma.gov/event/water-and-sewer-commission-meeting-7/
LOCATION:Commission Office\, Building #11\, 100 Tower Way\, Marblehead\, 01945\, United States
END:VEVENT
BEGIN:VEVENT
DTSTART;TZID=America/New_York:20260217T150000
DTEND;TZID=America/New_York:20260217T150000
DTSTAMP:20260422T114701
CREATED:20260211T211232Z
LAST-MODIFIED:20260213T161304Z
UID:10000354-1771340400-1771340400@marbleheadma.gov
SUMMARY:Water and Sewer Commission Meeting AMENDED
DESCRIPTION:In-Person Meeting \nCommission Office\, Building #11 \n100 Tower Way \nMarblehead\, MA 01945 \nWater and Sewer Commission Agenda AMENDED
URL:https://marbleheadma.gov/event/water-and-sewer-commission-meeting-5/
LOCATION:Commission Office\, Building #11\, 100 Tower Way\, Marblehead\, 01945\, United States
END:VEVENT
BEGIN:VEVENT
DTSTART;TZID=America/New_York:20260106T190000
DTEND;TZID=America/New_York:20260106T190000
DTSTAMP:20260422T114701
CREATED:20251230T201120Z
LAST-MODIFIED:20260106T185033Z
UID:10000270-1767726000-1767726000@marbleheadma.gov
SUMMARY:Water and Sewer Commission Meeting - AMENDED
DESCRIPTION:HYBRID MEETING \nAddress of Meeting:  100 Tower Way\, Building #11  Marblehead\, MA \nRoom:  Commission Office   \nMeeting will also be held via Zoom web-based video conferencing at  \n  https://us06web.zoom.us/j/86722223256?pwd=MzQX1aqlve99uvC26TbrOv2rosrVCW.1 \nMeeting ID: 867 2222 3256 \nPasscode: 031090 \n+13052241968\,\,86722223256# US \n  \nWater and Sewer Commission Agenda AMENDED
URL:https://marbleheadma.gov/event/water-and-sewer-commission-meeting-3/
LOCATION:Commission Office\, Building #11\, 100 Tower Way\, Marblehead\, 01945\, United States
END:VEVENT
BEGIN:VEVENT
DTSTART;TZID=America/New_York:20251202T180000
DTEND;TZID=America/New_York:20251202T180000
DTSTAMP:20260422T114701
CREATED:20251125T132215Z
LAST-MODIFIED:20251125T132215Z
UID:10000229-1764698400-1764698400@marbleheadma.gov
SUMMARY:Water and Sewer Commission Meeting
DESCRIPTION:IN-PERSON MEETING \nCommission Office \n100 Tower Way\, Building 11 \nMarblehead\, MA 01945 \nWater and Sewer Commission Agenda
URL:https://marbleheadma.gov/event/water-and-sewer-commission-meeting-2/
LOCATION:Commission Office\, Building #11\, 100 Tower Way\, Marblehead\, 01945\, United States
END:VEVENT
BEGIN:VEVENT
DTSTART;TZID=America/New_York:20251105T190000
DTEND;TZID=America/New_York:20251105T190000
DTSTAMP:20260422T114701
CREATED:20251103T155139Z
LAST-MODIFIED:20251105T151550Z
UID:10000190-1762369200-1762369200@marbleheadma.gov
SUMMARY:Marblehead Water and Sewer Commission Meeting AMENDED
DESCRIPTION:IN-PERSON MEETING \nCommission Office\, 100 Tower Way\, Building #11 \nMarblehead\, MA 01945 \nWater and Sewer Commission Agenda AMENDED 
URL:https://marbleheadma.gov/event/marblehead-water-and-sewer-commission-meeting-2/
LOCATION:Commission Office\, Building #11\, 100 Tower Way\, Marblehead\, 01945\, United States
END:VEVENT
BEGIN:VEVENT
DTSTART;TZID=America/New_York:20250902T190000
DTEND;TZID=America/New_York:20250902T190000
DTSTAMP:20260422T114701
CREATED:20250828T195647Z
LAST-MODIFIED:20250828T195647Z
UID:10000083-1756839600-1756839600@marbleheadma.gov
SUMMARY:Water and Sewer Commission Meeting
DESCRIPTION:In-Person Meeting \n100 Tower Way\, Building #11\, Commission Office \nMarblehead\, MA 01945 \nWater and Sewer Commission Agenda
URL:https://marbleheadma.gov/event/water-and-sewer-commission-meeting/
LOCATION:Commission Office\, Building #11\, 100 Tower Way\, Marblehead\, 01945\, United States
END:VEVENT
BEGIN:VEVENT
DTSTART;TZID=America/New_York:20250805T190000
DTEND;TZID=America/New_York:20250805T190000
DTSTAMP:20260422T114701
CREATED:20250801T125051Z
LAST-MODIFIED:20250801T153205Z
UID:10000050-1754420400-1754420400@marbleheadma.gov
SUMMARY:Marblehead Water and Sewer Commission Meeting
DESCRIPTION:IN-PERSON MEETING \nCommission Office \n100 Tower Way \nBuilding #11 \nMarblehead\, MA 01945 \nMarblehead Water and Sewer Commission Agenda
URL:https://marbleheadma.gov/event/marblehead-water-and-sewer-commission-meeting/
LOCATION:Commission Office\, Building #11\, 100 Tower Way\, Marblehead\, 01945\, United States
END:VEVENT
END:VCALENDAR