BEGIN:VCALENDAR
VERSION:2.0
PRODID:-//Town of Marblehead - ECPv6.15.20//NONSGML v1.0//EN
CALSCALE:GREGORIAN
METHOD:PUBLISH
X-WR-CALNAME:Town of Marblehead
X-ORIGINAL-URL:https://marbleheadma.gov
X-WR-CALDESC:Events for Town of Marblehead
REFRESH-INTERVAL;VALUE=DURATION:PT1H
X-Robots-Tag:noindex
X-PUBLISHED-TTL:PT1H
BEGIN:VTIMEZONE
TZID:America/New_York
BEGIN:DAYLIGHT
TZOFFSETFROM:-0500
TZOFFSETTO:-0400
TZNAME:EDT
DTSTART:20240310T070000
END:DAYLIGHT
BEGIN:STANDARD
TZOFFSETFROM:-0400
TZOFFSETTO:-0500
TZNAME:EST
DTSTART:20241103T060000
END:STANDARD
BEGIN:DAYLIGHT
TZOFFSETFROM:-0500
TZOFFSETTO:-0400
TZNAME:EDT
DTSTART:20250309T070000
END:DAYLIGHT
BEGIN:STANDARD
TZOFFSETFROM:-0400
TZOFFSETTO:-0500
TZNAME:EST
DTSTART:20251102T060000
END:STANDARD
BEGIN:DAYLIGHT
TZOFFSETFROM:-0500
TZOFFSETTO:-0400
TZNAME:EDT
DTSTART:20260308T070000
END:DAYLIGHT
BEGIN:STANDARD
TZOFFSETFROM:-0400
TZOFFSETTO:-0500
TZNAME:EST
DTSTART:20261101T060000
END:STANDARD
BEGIN:DAYLIGHT
TZOFFSETFROM:-0500
TZOFFSETTO:-0400
TZNAME:EDT
DTSTART:20270314T070000
END:DAYLIGHT
BEGIN:STANDARD
TZOFFSETFROM:-0400
TZOFFSETTO:-0500
TZNAME:EST
DTSTART:20271107T060000
END:STANDARD
END:VTIMEZONE
BEGIN:VEVENT
DTSTART;TZID=America/New_York:20260328T080000
DTEND;TZID=America/New_York:20260328T080000
DTSTAMP:20260424T093500
CREATED:20260324T201413Z
LAST-MODIFIED:20260324T201413Z
UID:10000437-1774684800-1774684800@marbleheadma.gov
SUMMARY:Abbot Public Library Board of Trustees Meeting
DESCRIPTION:HYBRID MEETING: Abbot Hall\, 188 Washington Street\, Select Board Meeting Room\, Marblehead\, MA 01945 \nOR: Zoom Conference join via the web link or Dial in \n\n\n\nLink:  https://us06web.zoom.us/j/88250471598?pwd=mdTrsJDbF7oX73dfwm5jTShQXMWeP6.1 \nMeeting ID: 882 5047 1598 \nPassword:  862384\n \n\n\nDial in Phone #1 (305) 224-1968 or 1(309) 205-3325\n \n\n\n\n  \nAbbot Public Library Board of Trustees Agenda
URL:https://marbleheadma.gov/event/abbot-public-library-board-of-trustees-meeting-9/
LOCATION:Select Board’s Meeting Room\, Abbot Hall\, 188 Washington Street\, Marblehead\, 01945\, United States
END:VEVENT
BEGIN:VEVENT
DTSTART;TZID=America/New_York:20260302T180000
DTEND;TZID=America/New_York:20260302T180000
DTSTAMP:20260424T093500
CREATED:20260225T135207Z
LAST-MODIFIED:20260225T135529Z
UID:10000371-1772474400-1772474400@marbleheadma.gov
SUMMARY:Abbot Public Library Board of Trustees Meeting
DESCRIPTION:HYBRID MEETING                                                                         \nAddress:                     Abbot Public Library\, 235 Pleasant Street\, Marblehead\, MA 01945 -OR-  \nZoom Conference join via the web link or Dial-in  \n\n\n\nhttps://us02web.zoom.us/j/84074405012?pwd=y4t7PMLudzsiwDBVmvO77o8ZpPv1YZ.1 \nMeeting ID: 840 7440 5012 \nPasscode: 271487\n\n\nDial in Phone:  1-305-224-1968  US                1-309-205-3325\n \n\n\n\n\n  \nAbbot Public Library Board of Trustees Agenda
URL:https://marbleheadma.gov/event/abbot-public-library-board-of-trustees-meeting-8/
LOCATION:Abbot Public Library\, 235 Pleasant Street\, Marblehead\, MA\, 01945\, United States
END:VEVENT
BEGIN:VEVENT
DTSTART;TZID=America/New_York:20260105T180000
DTEND;TZID=America/New_York:20260105T180000
DTSTAMP:20260424T093500
CREATED:20251222T145146Z
LAST-MODIFIED:20251222T145146Z
UID:10000263-1767636000-1767636000@marbleheadma.gov
SUMMARY:Abbot Public Library Board of Trustees Meeting
DESCRIPTION:HYBRID MEETING                                                                         \nAddress:                Abbot Public Library\, 235 Pleasant Street\, Marblehead\, MA 01945 -OR-  \nZoom Conference join via the web link or Dial-in \n\n\n\nhttps://us02web.zoom.us/j/87446504339?pwd=RwbwECyoxHA4FZicvSj3babUS8fKb0.1 \nMeeting ID: 874 4650 4339 \nPasscode: 443677\n\n\nDial in Phone:  1-305-224-1968  US                1-309-205-3325\n \n \n\n\n\n  \nAbbot Public Library Board of Trustees Agenda
URL:https://marbleheadma.gov/event/abbot-public-library-board-of-trustees-meeting-6/
LOCATION:Abbot Public Library\, 235 Pleasant Street\, Marblehead\, MA\, 01945\, United States
END:VEVENT
BEGIN:VEVENT
DTSTART;TZID=America/New_York:20251201T180000
DTEND;TZID=America/New_York:20251201T180000
DTSTAMP:20260424T093500
CREATED:20251125T142005Z
LAST-MODIFIED:20251125T142005Z
UID:10000232-1764612000-1764612000@marbleheadma.gov
SUMMARY:Abbot Public Library Board of Trustees Meeting
DESCRIPTION:HYBRID MEETING                                                                         \nAddress:                Abbot Public Library\, 235 Pleasant Street\, Marblehead\, MA 01945 -OR-  \nZoom Conference join via the web link or Dial-in  \n\n\n\nhttps://us02web.zoom.us/j/81704248279?pwd=C3Rc1pRjLjP28mJpgoiBjObkVYDA0L.1 \nMeeting ID: 817 0424 8279 \nPasscode: 928802\n\n\nDial in Phone:  1-305-224-1968  US                1-309-205-3325\n \n \n\n\n\n  \nAbbot Public Library Board of Trustees Agenda
URL:https://marbleheadma.gov/event/abbot-public-library-board-of-trustees-meeting-5/
LOCATION:Abbot Public Library\, 235 Pleasant Street\, Marblehead\, MA\, 01945\, United States
END:VEVENT
BEGIN:VEVENT
DTSTART;TZID=America/New_York:20251006T180000
DTEND;TZID=America/New_York:20251006T180000
DTSTAMP:20260424T093500
CREATED:20251001T203806Z
LAST-MODIFIED:20251001T203806Z
UID:10000133-1759773600-1759773600@marbleheadma.gov
SUMMARY:Abbot Public Library Board of Trustees Meeting
DESCRIPTION:HYBRID MEETING \nAbbot Public Library\, 235 Pleasant Street\, Marblehead\, MA 01945 -OR- \nZoom Conference join via the web link or Dial-in \n\n\n\nhttps://us02web.zoom.us/j/87097316823?pwd=bXM5pXVzmBYyDkjdqTPQlJPX0uQ8yF.1 \nMeeting ID: 870 9731 6823 \nPasscode: 647020\n\n\nDial in Phone:  1-305-224-1968  US                1-309-205-3325\n \n \n\n\n\nAbbot Public Library Board of Trustees Agenda
URL:https://marbleheadma.gov/event/abbot-public-library-board-of-trustees-meeting-3/
LOCATION:Abbot Public Library\, 235 Pleasant Street\, Marblehead\, MA\, 01945\, United States
END:VEVENT
BEGIN:VEVENT
DTSTART;TZID=America/New_York:20250908T180000
DTEND;TZID=America/New_York:20250908T180000
DTSTAMP:20260424T093500
CREATED:20250903T181407Z
LAST-MODIFIED:20250903T181407Z
UID:10000088-1757354400-1757354400@marbleheadma.gov
SUMMARY:Abbot Public Library Board of Trustees Meeting
DESCRIPTION:HYBRID MEETING                                                                         \nAddress:                     Abbot Public Library\, 235 Pleasant Street\, Marblehead\, MA 01945 -OR- \nZoom Conference join via the web link or Dial-in \n\n\n\nhttps://us02web.zoom.us/j/86965488107?pwd=guXToNybwLvcZXlKgktMmOtNeHrPGK.1 \nMeeting ID: 869 6548 8107 \nPasscode: 327098\n\n\nDial in Phone:  1-305-224-1968  US                1-309-205-3325\n \n \n\n\n\n  \nAbbot Public Library Board of Trustees Agenda 
URL:https://marbleheadma.gov/event/abbot-public-library-board-of-trustees-meeting-2/
LOCATION:Abbot Public Library\, 235 Pleasant Street\, Marblehead\, MA\, 01945\, United States
END:VEVENT
BEGIN:VEVENT
DTSTART;TZID=America/New_York:20250804T180000
DTEND;TZID=America/New_York:20250804T180000
DTSTAMP:20260424T093500
CREATED:20250731T124454Z
LAST-MODIFIED:20250801T152858Z
UID:10000046-1754330400-1754330400@marbleheadma.gov
SUMMARY:Abbot Public Library Board of Trustees Meeting
DESCRIPTION:HYBRID MEETING                                                                         \nAddress:  Abbot Public Library\, 235 Pleasant Street\, Marblehead\, MA 01945 -OR-  \nZoom Conference join via the web link or Dial-in  \n\n\n\nhttps://us02web.zoom.us/j/83143218410?pwd=t5Tbp3I3SVMTnuXCztz3ppk7rYTriP.1 \nMeeting ID: 831 4321 8410 \nPasscode: 228239\n\n\nDial in Phone:  1-305-224-1968  US                1-309-205-3325 \nAbbot Public Library Board of Trustees Agenda\n 
URL:https://marbleheadma.gov/event/abbot-public-library-board-of-trustees-meeting/
LOCATION:Abbot Public Library\, 235 Pleasant Street\, Marblehead\, MA\, 01945\, United States
END:VEVENT
END:VCALENDAR