BEGIN:VCALENDAR
VERSION:2.0
PRODID:-//Town of Marblehead - ECPv6.15.20//NONSGML v1.0//EN
CALSCALE:GREGORIAN
METHOD:PUBLISH
X-ORIGINAL-URL:https://marbleheadma.gov
X-WR-CALDESC:Events for Town of Marblehead
REFRESH-INTERVAL;VALUE=DURATION:PT1H
X-Robots-Tag:noindex
X-PUBLISHED-TTL:PT1H
BEGIN:VTIMEZONE
TZID:America/New_York
BEGIN:DAYLIGHT
TZOFFSETFROM:-0500
TZOFFSETTO:-0400
TZNAME:EDT
DTSTART:20240310T070000
END:DAYLIGHT
BEGIN:STANDARD
TZOFFSETFROM:-0400
TZOFFSETTO:-0500
TZNAME:EST
DTSTART:20241103T060000
END:STANDARD
BEGIN:DAYLIGHT
TZOFFSETFROM:-0500
TZOFFSETTO:-0400
TZNAME:EDT
DTSTART:20250309T070000
END:DAYLIGHT
BEGIN:STANDARD
TZOFFSETFROM:-0400
TZOFFSETTO:-0500
TZNAME:EST
DTSTART:20251102T060000
END:STANDARD
BEGIN:DAYLIGHT
TZOFFSETFROM:-0500
TZOFFSETTO:-0400
TZNAME:EDT
DTSTART:20260308T070000
END:DAYLIGHT
BEGIN:STANDARD
TZOFFSETFROM:-0400
TZOFFSETTO:-0500
TZNAME:EST
DTSTART:20261101T060000
END:STANDARD
END:VTIMEZONE
BEGIN:VEVENT
DTSTART;TZID=America/New_York:20250616T130000
DTEND;TZID=America/New_York:20250616T140000
DTSTAMP:20260420T165445
CREATED:20250613T162629Z
LAST-MODIFIED:20250613T162629Z
UID:10000014-1750078800-1750082400@marbleheadma.gov
SUMMARY:Select Board Meeting
DESCRIPTION:Event Date: Monday\, June 16\, 2025 – 1:00pm\n\n\n\n\n2025-06-16 Select Board Meeting Agenda\n\n\n\nHYBRID MEETING \nAddress: Abbot Hall\, 188 Washington Street\, Select Board’s Meeting Room\, Marblehead\, MA 01945 –OR- \nZoom Conference join via the web link or Dial-in \nhttps://us06web.zoom.us/j/96471420814?pwd=UkVSOVR4Qzc4TUFvWTBXMDJhUTU3QT09 \nMeeting ID: 964 7142 0814 \nPasscode: 773176 \nOne tap mobile  +1 253 215 8782  US \n+1 301 715 8592 US
URL:https://marbleheadma.gov/event/select-board-meeting/
LOCATION:Abbot Hall\, 188 Washington Street\, Marblehead\, MA\, 01945\, United States
CATEGORIES:Select Board
END:VEVENT
BEGIN:VEVENT
DTSTART;TZID=America/New_York:20250625T190000
DTEND;TZID=America/New_York:20250625T203000
DTSTAMP:20260420T165445
CREATED:20250625T144531Z
LAST-MODIFIED:20250625T144531Z
UID:10000031-1750878000-1750883400@marbleheadma.gov
SUMMARY:Select Board Meeting
DESCRIPTION:HYBRID MEETING\n\n\n\n\n\n\n\n\nEvent Date:\nWednesday\, June 25\, 2025 – 7:00pm\n\n\nHYBRID MEETING \nAddress: Abbot Hall\, 188 Washington Street\, Select Board’s Meeting Room\, Marblehead\, MA 01945 -OR- \nZoom Conference join via the web link or Dial-in \nhttps://us06web.zoom.us/j/96471420814?pwd=UkVSOVR4Qzc4TUFvWTBXMDJhUTU3QT09 \nMeeting ID: 964 7142 0814    Passcode: 773176 \nOne tap mobile  +1 253 215 8782  US           +1 301 715 8592 US \nselect_board_agenda_6-25-25
URL:https://marbleheadma.gov/event/select-board-meeting-2/
LOCATION:MA
CATEGORIES:Select Board
END:VEVENT
END:VCALENDAR