BEGIN:VCALENDAR
VERSION:2.0
PRODID:-//Town of Marblehead - ECPv6.15.20//NONSGML v1.0//EN
CALSCALE:GREGORIAN
METHOD:PUBLISH
X-WR-CALNAME:Town of Marblehead
X-ORIGINAL-URL:https://marbleheadma.gov
X-WR-CALDESC:Events for Town of Marblehead
REFRESH-INTERVAL;VALUE=DURATION:PT1H
X-Robots-Tag:noindex
X-PUBLISHED-TTL:PT1H
BEGIN:VTIMEZONE
TZID:America/New_York
BEGIN:DAYLIGHT
TZOFFSETFROM:-0500
TZOFFSETTO:-0400
TZNAME:EDT
DTSTART:20240310T070000
END:DAYLIGHT
BEGIN:STANDARD
TZOFFSETFROM:-0400
TZOFFSETTO:-0500
TZNAME:EST
DTSTART:20241103T060000
END:STANDARD
BEGIN:DAYLIGHT
TZOFFSETFROM:-0500
TZOFFSETTO:-0400
TZNAME:EDT
DTSTART:20250309T070000
END:DAYLIGHT
BEGIN:STANDARD
TZOFFSETFROM:-0400
TZOFFSETTO:-0500
TZNAME:EST
DTSTART:20251102T060000
END:STANDARD
BEGIN:DAYLIGHT
TZOFFSETFROM:-0500
TZOFFSETTO:-0400
TZNAME:EDT
DTSTART:20260308T070000
END:DAYLIGHT
BEGIN:STANDARD
TZOFFSETFROM:-0400
TZOFFSETTO:-0500
TZNAME:EST
DTSTART:20261101T060000
END:STANDARD
END:VTIMEZONE
BEGIN:VEVENT
DTSTART;TZID=America/New_York:20250617T081500
DTEND;TZID=America/New_York:20250617T093000
DTSTAMP:20260421T125303
CREATED:20250613T164041Z
LAST-MODIFIED:20250613T164041Z
UID:10000019-1750148100-1750152600@marbleheadma.gov
SUMMARY:Municipal Light Board Meeting
DESCRIPTION:HYBRID MEETING\n\n\n\n\n\n\n\n\nEvent Date:\nTuesday\, June 17\, 2025 – 8:15am\n\n\nHYBRID MEETING \n2025-06-17 Municipal_Light_Board_meeting \nIn Person Meeting: Address: 80 Commercial St. Marblehead MA 01945 -OR- \nRemote Participation Zoom Webinar – join via the web link https://us06web.zoom.us/j/85068837757 \nWebinar ID: 850 6883 7757 Password: no password necessary Dial in Phone Number: +1 929 436 2866 Meeting number: 850 6883 7757 # Participant: #
URL:https://marbleheadma.gov/event/municipal-light-board-meeting/
LOCATION:Marblehead Municipal Light Department\, 80 Commercial St.\, Marblehead\, MA\, 01945\, United States
CATEGORIES:Marblehead Municipal Light Department
END:VEVENT
END:VCALENDAR