BEGIN:VCALENDAR
VERSION:2.0
PRODID:-//Town of Marblehead - ECPv6.15.20//NONSGML v1.0//EN
CALSCALE:GREGORIAN
METHOD:PUBLISH
X-WR-CALNAME:Town of Marblehead
X-ORIGINAL-URL:https://marbleheadma.gov
X-WR-CALDESC:Events for Town of Marblehead
REFRESH-INTERVAL;VALUE=DURATION:PT1H
X-Robots-Tag:noindex
X-PUBLISHED-TTL:PT1H
BEGIN:VTIMEZONE
TZID:America/New_York
BEGIN:DAYLIGHT
TZOFFSETFROM:-0500
TZOFFSETTO:-0400
TZNAME:EDT
DTSTART:20240310T070000
END:DAYLIGHT
BEGIN:STANDARD
TZOFFSETFROM:-0400
TZOFFSETTO:-0500
TZNAME:EST
DTSTART:20241103T060000
END:STANDARD
BEGIN:DAYLIGHT
TZOFFSETFROM:-0500
TZOFFSETTO:-0400
TZNAME:EDT
DTSTART:20250309T070000
END:DAYLIGHT
BEGIN:STANDARD
TZOFFSETFROM:-0400
TZOFFSETTO:-0500
TZNAME:EST
DTSTART:20251102T060000
END:STANDARD
BEGIN:DAYLIGHT
TZOFFSETFROM:-0500
TZOFFSETTO:-0400
TZNAME:EDT
DTSTART:20260308T070000
END:DAYLIGHT
BEGIN:STANDARD
TZOFFSETFROM:-0400
TZOFFSETTO:-0500
TZNAME:EST
DTSTART:20261101T060000
END:STANDARD
END:VTIMEZONE
BEGIN:VEVENT
DTSTART;TZID=America/New_York:20250617T153000
DTEND;TZID=America/New_York:20250617T170000
DTSTAMP:20260421T130831
CREATED:20250613T164217Z
LAST-MODIFIED:20250613T164217Z
UID:10000020-1750174200-1750179600@marbleheadma.gov
SUMMARY:Fair Housing Committee Meeting
DESCRIPTION:HYBRID MEETING\n\n\n\n\n\n\n\n\nEvent Date:\nTuesday\, June 17\, 2025 – 3:30pm\n2025-06-17 Fair_Housing_Committee_Agenda\n\n\nHYBRID MEETING \nAddress: Abbot Hall\, 188 Washington Street\, Select Board’s Meeting Room\, Marblehead\, MA 01945 –OR- \nZoom Conference join via the web link or Dial-in \nhttps://us06web.zoom.us/j/87536055891?pwd=bUJBLzF0UHc4MmxYNTM2Zm54aXlsZz09 \nMeeting ID: 875 3605 5891    Passcode: 468878 \nOne tap mobile   +1.312.626.6799          +1.646.558.8656
URL:https://marbleheadma.gov/event/fair-housing-committee-meeting/
CATEGORIES:Fair Housing Committee
END:VEVENT
END:VCALENDAR