BEGIN:VCALENDAR
VERSION:2.0
PRODID:-//Town of Marblehead - ECPv6.15.20//NONSGML v1.0//EN
CALSCALE:GREGORIAN
METHOD:PUBLISH
X-WR-CALNAME:Town of Marblehead
X-ORIGINAL-URL:https://marbleheadma.gov
X-WR-CALDESC:Events for Town of Marblehead
REFRESH-INTERVAL;VALUE=DURATION:PT1H
X-Robots-Tag:noindex
X-PUBLISHED-TTL:PT1H
BEGIN:VTIMEZONE
TZID:America/New_York
BEGIN:DAYLIGHT
TZOFFSETFROM:-0500
TZOFFSETTO:-0400
TZNAME:EDT
DTSTART:20250309T070000
END:DAYLIGHT
BEGIN:STANDARD
TZOFFSETFROM:-0400
TZOFFSETTO:-0500
TZNAME:EST
DTSTART:20251102T060000
END:STANDARD
BEGIN:DAYLIGHT
TZOFFSETFROM:-0500
TZOFFSETTO:-0400
TZNAME:EDT
DTSTART:20260308T070000
END:DAYLIGHT
BEGIN:STANDARD
TZOFFSETFROM:-0400
TZOFFSETTO:-0500
TZNAME:EST
DTSTART:20261101T060000
END:STANDARD
BEGIN:DAYLIGHT
TZOFFSETFROM:-0500
TZOFFSETTO:-0400
TZNAME:EDT
DTSTART:20270314T070000
END:DAYLIGHT
BEGIN:STANDARD
TZOFFSETFROM:-0400
TZOFFSETTO:-0500
TZNAME:EST
DTSTART:20271107T060000
END:STANDARD
END:VTIMEZONE
BEGIN:VEVENT
DTSTART;TZID=America/New_York:20260421T160000
DTEND;TZID=America/New_York:20260421T160000
DTSTAMP:20260423T054803
CREATED:20260416T145844Z
LAST-MODIFIED:20260416T154755Z
UID:10000489-1776787200-1776787200@marbleheadma.gov
SUMMARY:Marblehead Housing Authority Board of Commissioners Meeting
DESCRIPTION:HYBRID MEETING \n Address:  Marblehead Housing Authority\,  One Farrell Court\, Marblehead\, MA 01945\, ROOM: Community Room –OR- \nBy Zoom \nhttps://us02web.zoom.us/j/89432756363?pwd=rOGDEnkvwwz2nx2BqOVbnlSPYZRwYJ.1 \nPhone one-tap: \n+13052241968\,\,89432756363#\,\,\,\,*168870# US \n+13092053325\,\,89432756363#\,\,\,\,*168870# US \nWebinar ID: 894 3275 6363 \nPasscode: 168870 \nMarblehead Housing Authority Board of Commissioners Agenda
URL:https://marbleheadma.gov/event/marblehead-housing-authority-board-of-commissioners-meeting/
LOCATION:Marblehead Housing Authority\, Community Room\, One Farrell Court\, Marblehead\, MA\, 01945\, United States
END:VEVENT
BEGIN:VEVENT
DTSTART;TZID=America/New_York:20260421T173000
DTEND;TZID=America/New_York:20260421T173000
DTSTAMP:20260423T054803
CREATED:20260416T141217Z
LAST-MODIFIED:20260416T141217Z
UID:10000488-1776792600-1776792600@marbleheadma.gov
SUMMARY:Recreation & Park Commission Meeting
DESCRIPTION:IN PERSON MEETING \nAddress of Meeting: 10 Humphrey St.\, Marblehead\, MA \nRoom: Conference Room \n  \nRecreation & Park Commission Agenda
URL:https://marbleheadma.gov/event/recreation-park-commission-meeting-13/
LOCATION:10 Humphrey St.\, Marblehead\, MA\, 01945
END:VEVENT
BEGIN:VEVENT
DTSTART;TZID=America/New_York:20260421T190000
DTEND;TZID=America/New_York:20260421T190000
DTSTAMP:20260423T054803
CREATED:20260416T170148Z
LAST-MODIFIED:20260416T170148Z
UID:10000490-1776798000-1776798000@marbleheadma.gov
SUMMARY:Old & Historic Marblehead Districts Commission Meeting
DESCRIPTION:IN PERSON MEETING \nAddress: Abbot Hall\, 188 Washington Street\, Marblehead MA \nRoom: Select Board’s Meeting Room \n  \nOld & Historic Marblehead Districts Commission Agenda
URL:https://marbleheadma.gov/event/old-historic-marblehead-districts-commission-meeting/
LOCATION:Select Board’s Meeting Room\, Abbot Hall\, 188 Washington Street\, Marblehead\, 01945\, United States
END:VEVENT
END:VCALENDAR