BEGIN:VCALENDAR
VERSION:2.0
PRODID:-//Town of Marblehead - ECPv6.15.20//NONSGML v1.0//EN
CALSCALE:GREGORIAN
METHOD:PUBLISH
X-WR-CALNAME:Town of Marblehead
X-ORIGINAL-URL:https://marbleheadma.gov
X-WR-CALDESC:Events for Town of Marblehead
REFRESH-INTERVAL;VALUE=DURATION:PT1H
X-Robots-Tag:noindex
X-PUBLISHED-TTL:PT1H
BEGIN:VTIMEZONE
TZID:America/New_York
BEGIN:DAYLIGHT
TZOFFSETFROM:-0500
TZOFFSETTO:-0400
TZNAME:EDT
DTSTART:20250309T070000
END:DAYLIGHT
BEGIN:STANDARD
TZOFFSETFROM:-0400
TZOFFSETTO:-0500
TZNAME:EST
DTSTART:20251102T060000
END:STANDARD
BEGIN:DAYLIGHT
TZOFFSETFROM:-0500
TZOFFSETTO:-0400
TZNAME:EDT
DTSTART:20260308T070000
END:DAYLIGHT
BEGIN:STANDARD
TZOFFSETFROM:-0400
TZOFFSETTO:-0500
TZNAME:EST
DTSTART:20261101T060000
END:STANDARD
BEGIN:DAYLIGHT
TZOFFSETFROM:-0500
TZOFFSETTO:-0400
TZNAME:EDT
DTSTART:20270314T070000
END:DAYLIGHT
BEGIN:STANDARD
TZOFFSETFROM:-0400
TZOFFSETTO:-0500
TZNAME:EST
DTSTART:20271107T060000
END:STANDARD
END:VTIMEZONE
BEGIN:VEVENT
DTSTART;TZID=America/New_York:20260415T093000
DTEND;TZID=America/New_York:20260415T093000
DTSTAMP:20260421T061127
CREATED:20260413T125446Z
LAST-MODIFIED:20260413T125446Z
UID:10000483-1776245400-1776245400@marbleheadma.gov
SUMMARY:Marblehead School Committee Communications Subcommittee Meeting
DESCRIPTION:Zoom Conference:\nhttps://marbleheadschools-org.zoom.us/j/93605848486?pwd=PU4uGxUVZR5u8tCBSj28TXUjsZ8Bqu.1\nMeeting ID: 936 0584 8486\nPassword: 574628\nDial in Phone +1 646 931 3860 US \n  \nMarblehead School Committee Communications Subcommittee Agenda
URL:https://marbleheadma.gov/event/marblehead-school-committee-communications-subcommittee-meeting-6/
LOCATION:
END:VEVENT
BEGIN:VEVENT
DTSTART;TZID=America/New_York:20260415T123000
DTEND;TZID=America/New_York:20260415T123000
DTSTAMP:20260421T061127
CREATED:20260409T181926Z
LAST-MODIFIED:20260414T200252Z
UID:10000478-1776256200-1776256200@marbleheadma.gov
SUMMARY:Select Board Meeting - AMENDED
DESCRIPTION:HYBRID MEETING \nAddress: Abbot Hall\, 188 Washington Street\, Select Board’s Meeting Room\, Marblehead\, MA 01945 –OR- \nZoom Conference join via the web link or Dial-in  \nhttps://us06web.zoom.us/j/96471420814?pwd=UkVSOVR4Qzc4TUFvWTBXMDJhUTU3QT09 \nMeeting ID: 964 7142 0814    Passcode: 773176 \nOne tap mobile  +1 253 215 8782  US           +1 301 715 8592 US \n  \nSelect Board Agenda AMENDED
URL:https://marbleheadma.gov/event/select-board-meeting-37/
LOCATION:Select Board’s Meeting Room\, Abbot Hall\, 188 Washington Street\, Marblehead\, 01945\, United States
END:VEVENT
BEGIN:VEVENT
DTSTART;TZID=America/New_York:20260415T153000
DTEND;TZID=America/New_York:20260415T153000
DTSTAMP:20260421T061127
CREATED:20260413T125956Z
LAST-MODIFIED:20260413T125956Z
UID:10000484-1776267000-1776267000@marbleheadma.gov
SUMMARY:Cemetery Board of Commissioners Meeting
DESCRIPTION:IN PERSON MEETING \nAddress: 10 Humphrey Street\, Marblehead\, MA \nRoom: COA Corner Meeting Room \n  \nCemetery Board of Commissioners Agenda
URL:https://marbleheadma.gov/event/cemetery-board-of-commissioners-meeting-7/
LOCATION:COA Corner Meeting Room\, 10 Humphrey Street\, Marblehead\, MA\, 01945\, United States
END:VEVENT
BEGIN:VEVENT
DTSTART;TZID=America/New_York:20260415T183000
DTEND;TZID=America/New_York:20260415T183000
DTSTAMP:20260421T061127
CREATED:20260408T152613Z
LAST-MODIFIED:20260408T152613Z
UID:10000476-1776277800-1776277800@marbleheadma.gov
SUMMARY:Marblehead Cultural Council Meeting
DESCRIPTION:Hybrid Meeting \nAddress: Marblehead Room\, Abbot Public Library\, 235 Pleasant Street\, Marblehead\, MA 01945 \n-OR- \nJoin via the web link or Dial in          https://us06web.zoom.us/j/3963295829?omn=87486506617 \nMeeting ID:   396 329 5829 \nDial In Phone # +13052241968\,\,3963295829# US     +13092053325\,\,3963295829# US \n  \nMarblehead Cultural Council Agenda
URL:https://marbleheadma.gov/event/marblehead-cultural-council-meeting-5/
LOCATION:Marblehead Room\, Abbot Public Library\, 235 Pleasant Street\, Marblehead\, 01945\, United States
END:VEVENT
END:VCALENDAR